BEGIN:VCALENDAR
VERSION:2.0
PRODID:-//wp-events-plugin.com//7.2.3.1//EN
TZID:America/Chicago
X-WR-TIMEZONE:America/Chicago
BEGIN:VEVENT
UID:1283@nhbz.org
DTSTART;TZID=America/Chicago:20260517T100000
DTEND;TZID=America/Chicago:20260517T113000
DTSTAMP:20260421T214129Z
URL:https://nhbz.org/events-calendar/dialogue-and-brunch-with-mo-represent
 ative-george-hruza/
SUMMARY:Dialogue and Brunch with MO Representative George Hruza
DESCRIPTION:Dialogue and brunch with MO Rep. George Hruza. Come hear about 
 Dr. Hruza’s Jewish family history\, the antisemitism bill he is sponsori
 ng\, and how he expects it to help our local community and all Missourians
 .
ATTACH;FMTTYPE=image/jpeg:https://i0.wp.com/nhbz.org/wp-content/uploads/20
 26/04/hruza-pic-1.jpg?fit=299%2C392&ssl=1
CATEGORIES:Community
END:VEVENT
BEGIN:VTIMEZONE
TZID:America/Chicago
X-LIC-LOCATION:America/Chicago
BEGIN:DAYLIGHT
DTSTART:20260308T030000
TZOFFSETFROM:-0600
TZOFFSETTO:-0500
TZNAME:CDT
END:DAYLIGHT
END:VTIMEZONE
END:VCALENDAR