BEGIN:VCALENDAR
VERSION:2.0
PRODID:-//wp-events-plugin.com//7.2.3.1//EN
TZID:America/Chicago
X-WR-TIMEZONE:America/Chicago
BEGIN:VEVENT
UID:1282@nhbz.org
DTSTART;TZID=America/Chicago;VALUE=DATE:20260424
DTEND;TZID=America/Chicago;VALUE=DATE:20260426
DTSTAMP:20260420T182826Z
URL:https://nhbz.org/events-calendar/shabbat-for-israel-yom-haatzmaut/
SUMMARY:Shabbat for Israel – Yom Ha’Atzmaut
DESCRIPTION:Shabbat for Israel – Celebrating Yom Ha’Atzmaut Israel’s 
 78th Independence Day
ATTACH;FMTTYPE=image/jpeg:https://i0.wp.com/nhbz.org/wp-content/uploads/20
 25/10/Flag_of_Israel.png?fit=1024%2C745&ssl=1
CATEGORIES:Community,Jewish Holidays
END:VEVENT
BEGIN:VTIMEZONE
TZID:America/Chicago
X-LIC-LOCATION:America/Chicago
BEGIN:DAYLIGHT
DTSTART:20260308T030000
TZOFFSETFROM:-0600
TZOFFSETTO:-0500
TZNAME:CDT
END:DAYLIGHT
END:VTIMEZONE
END:VCALENDAR